BEGIN:VCALENDAR
VERSION:2.0
PRODID:-//Mairie de Sainte-Léocadie - ECPv6.15.20//NONSGML v1.0//EN
CALSCALE:GREGORIAN
METHOD:PUBLISH
X-ORIGINAL-URL:https://sainte-leocadie.fr
X-WR-CALDESC:Évènements pour Mairie de Sainte-Léocadie
REFRESH-INTERVAL;VALUE=DURATION:PT1H
X-Robots-Tag:noindex
X-PUBLISHED-TTL:PT1H
BEGIN:VTIMEZONE
TZID:Europe/Paris
BEGIN:DAYLIGHT
TZOFFSETFROM:+0100
TZOFFSETTO:+0200
TZNAME:CEST
DTSTART:20220327T010000
END:DAYLIGHT
BEGIN:STANDARD
TZOFFSETFROM:+0200
TZOFFSETTO:+0100
TZNAME:CET
DTSTART:20221030T010000
END:STANDARD
BEGIN:DAYLIGHT
TZOFFSETFROM:+0100
TZOFFSETTO:+0200
TZNAME:CEST
DTSTART:20230326T010000
END:DAYLIGHT
BEGIN:STANDARD
TZOFFSETFROM:+0200
TZOFFSETTO:+0100
TZNAME:CET
DTSTART:20231029T010000
END:STANDARD
BEGIN:DAYLIGHT
TZOFFSETFROM:+0100
TZOFFSETTO:+0200
TZNAME:CEST
DTSTART:20240331T010000
END:DAYLIGHT
BEGIN:STANDARD
TZOFFSETFROM:+0200
TZOFFSETTO:+0100
TZNAME:CET
DTSTART:20241027T010000
END:STANDARD
END:VTIMEZONE
BEGIN:VEVENT
DTSTART;TZID=Europe/Paris:20230722T140000
DTEND;TZID=Europe/Paris:20230722T170000
DTSTAMP:20260421T055621
CREATED:20230615T222328Z
LAST-MODIFIED:20230719T111506Z
UID:430-1690034400-1690045200@sainte-leocadie.fr
SUMMARY:Festa Fotra
DESCRIPTION:Sainte-Léocadie\nLe Comité recherche des producteurs et artisans pour le Marché qui aura lieu à partir de 14h \nVeuillez contacter la mairie au 04 68 04 76 27 ou le 06 84 15 28 74
URL:https://sainte-leocadie.fr/event/festa-fotra/
CATEGORIES:Agenda / Evénements Accueil
ATTACH;FMTTYPE=image/jpeg:https://sainte-leocadie.fr/wp-content/uploads/2023/06/festa-fotra.jpg
END:VEVENT
END:VCALENDAR