BEGIN:VCALENDAR
VERSION:2.0
PRODID:-//Mairie de Sainte-Léocadie - ECPv6.15.20//NONSGML v1.0//EN
CALSCALE:GREGORIAN
METHOD:PUBLISH
X-WR-CALNAME:Mairie de Sainte-Léocadie
X-ORIGINAL-URL:https://sainte-leocadie.fr
X-WR-CALDESC:Évènements pour Mairie de Sainte-Léocadie
REFRESH-INTERVAL;VALUE=DURATION:PT1H
X-Robots-Tag:noindex
X-PUBLISHED-TTL:PT1H
BEGIN:VTIMEZONE
TZID:Europe/Paris
BEGIN:DAYLIGHT
TZOFFSETFROM:+0100
TZOFFSETTO:+0200
TZNAME:CEST
DTSTART:20230326T010000
END:DAYLIGHT
BEGIN:STANDARD
TZOFFSETFROM:+0200
TZOFFSETTO:+0100
TZNAME:CET
DTSTART:20231029T010000
END:STANDARD
BEGIN:DAYLIGHT
TZOFFSETFROM:+0100
TZOFFSETTO:+0200
TZNAME:CEST
DTSTART:20240331T010000
END:DAYLIGHT
BEGIN:STANDARD
TZOFFSETFROM:+0200
TZOFFSETTO:+0100
TZNAME:CET
DTSTART:20241027T010000
END:STANDARD
BEGIN:DAYLIGHT
TZOFFSETFROM:+0100
TZOFFSETTO:+0200
TZNAME:CEST
DTSTART:20250330T010000
END:DAYLIGHT
BEGIN:STANDARD
TZOFFSETFROM:+0200
TZOFFSETTO:+0100
TZNAME:CET
DTSTART:20251026T010000
END:STANDARD
END:VTIMEZONE
BEGIN:VEVENT
DTSTART;TZID=Europe/Paris:20240810T190000
DTEND;TZID=Europe/Paris:20240810T190000
DTSTAMP:20260420T113626
CREATED:20240728T110105Z
LAST-MODIFIED:20240729T110802Z
UID:537-1723316400-1723316400@sainte-leocadie.fr
SUMMARY:VOICELLO : OPÉRA POP
DESCRIPTION:
URL:https://sainte-leocadie.fr/event/voicello-opera-pop/
LOCATION:Salle de la Bergerie
CATEGORIES:Agenda / Evénements Accueil
ATTACH;FMTTYPE=image/webp:https://sainte-leocadie.fr/wp-content/uploads/2024/07/10aout-voicello-scaled.webp
END:VEVENT
BEGIN:VEVENT
DTSTART;TZID=Europe/Paris:20240811T090000
DTEND;TZID=Europe/Paris:20240811T170000
DTSTAMP:20260420T113626
CREATED:20240719T125952Z
LAST-MODIFIED:20240719T125952Z
UID:529-1723366800-1723395600@sainte-leocadie.fr
SUMMARY:Vide-Grenier
DESCRIPTION:
URL:https://sainte-leocadie.fr/event/vide-grenier-2/
LOCATION:Salle de la Bergerie
CATEGORIES:Agenda / Evénements Accueil
ATTACH;FMTTYPE=image/webp:https://sainte-leocadie.fr/wp-content/uploads/2024/07/AFFICHE-VIDE-GRENIER.webp
END:VEVENT
BEGIN:VEVENT
DTSTART;TZID=Europe/Paris:20240811T100000
DTEND;TZID=Europe/Paris:20240811T200000
DTSTAMP:20260420T113626
CREATED:20240719T125615Z
LAST-MODIFIED:20240719T125904Z
UID:523-1723370400-1723406400@sainte-leocadie.fr
SUMMARY:3e marché d'été à Cal Mateu
DESCRIPTION:
URL:https://sainte-leocadie.fr/event/3e-marche-dete/
LOCATION:CAL MATEU-MUSÉE DE CERDAGNE
CATEGORIES:Agenda / Evénements Accueil
ATTACH;FMTTYPE=image/webp:https://sainte-leocadie.fr/wp-content/uploads/2024/07/affiche-marche-dete-11-aout-copie.webp
END:VEVENT
BEGIN:VEVENT
DTSTART;TZID=Europe/Paris:20240814T103000
DTEND;TZID=Europe/Paris:20240814T170000
DTSTAMP:20260420T113626
CREATED:20240805T233844Z
LAST-MODIFIED:20240805T233844Z
UID:545-1723631400-1723654800@sainte-leocadie.fr
SUMMARY:31e vente aux enchères des vins de Cerdagne
DESCRIPTION:
URL:https://sainte-leocadie.fr/event/31e-vente-aux-encheres-des-vins-de-cerdagne/
CATEGORIES:Agenda / Evénements Accueil
ATTACH;FMTTYPE=image/webp:https://sainte-leocadie.fr/wp-content/uploads/2024/08/31e-venteauxencheres.webp
END:VEVENT
BEGIN:VEVENT
DTSTART;TZID=Europe/Paris:20240814T190000
DTEND;TZID=Europe/Paris:20240814T190000
DTSTAMP:20260420T113626
CREATED:20240728T110205Z
LAST-MODIFIED:20240729T110737Z
UID:541-1723662000-1723662000@sainte-leocadie.fr
SUMMARY:DUO FORTECELLO
DESCRIPTION:
URL:https://sainte-leocadie.fr/event/duo-fortecello/
LOCATION:Salle de la Bergerie
CATEGORIES:Agenda / Evénements Accueil
ATTACH;FMTTYPE=image/webp:https://sainte-leocadie.fr/wp-content/uploads/2024/07/14aout-duo-fortecello-scaled.webp
END:VEVENT
END:VCALENDAR