BEGIN:VCALENDAR
VERSION:2.0
PRODID:-//Mairie de Sainte-Léocadie - ECPv6.15.20//NONSGML v1.0//EN
CALSCALE:GREGORIAN
METHOD:PUBLISH
X-ORIGINAL-URL:https://sainte-leocadie.fr
X-WR-CALDESC:Évènements pour Mairie de Sainte-Léocadie
REFRESH-INTERVAL;VALUE=DURATION:PT1H
X-Robots-Tag:noindex
X-PUBLISHED-TTL:PT1H
BEGIN:VTIMEZONE
TZID:Europe/Paris
BEGIN:DAYLIGHT
TZOFFSETFROM:+0100
TZOFFSETTO:+0200
TZNAME:CEST
DTSTART:20220327T010000
END:DAYLIGHT
BEGIN:STANDARD
TZOFFSETFROM:+0200
TZOFFSETTO:+0100
TZNAME:CET
DTSTART:20221030T010000
END:STANDARD
BEGIN:DAYLIGHT
TZOFFSETFROM:+0100
TZOFFSETTO:+0200
TZNAME:CEST
DTSTART:20230326T010000
END:DAYLIGHT
BEGIN:STANDARD
TZOFFSETFROM:+0200
TZOFFSETTO:+0100
TZNAME:CET
DTSTART:20231029T010000
END:STANDARD
BEGIN:DAYLIGHT
TZOFFSETFROM:+0100
TZOFFSETTO:+0200
TZNAME:CEST
DTSTART:20240331T010000
END:DAYLIGHT
BEGIN:STANDARD
TZOFFSETFROM:+0200
TZOFFSETTO:+0100
TZNAME:CET
DTSTART:20241027T010000
END:STANDARD
END:VTIMEZONE
BEGIN:VEVENT
DTSTART;TZID=Europe/Paris:20231120T140000
DTEND;TZID=Europe/Paris:20231120T170000
DTSTAMP:20260421T012220
CREATED:20231115T082729Z
LAST-MODIFIED:20231115T082729Z
UID:462-1700488800-1700499600@sainte-leocadie.fr
SUMMARY:Animation en santé visuelle
DESCRIPTION:Bilan visuel\nDépistage de la vue* et conseils personnalisés dans le choix de votre nouvelle lunettes. \nLe lundi 20 novembre 2023 de 14h à 17h à la Mairie de Sainte-Léocadie \nInscription en libre accès à la mairie. \nAvec votre Opticien Mobile \nCALVET Estelle\n06 80 80 23 16 \n*Examen à visée non médicale.
URL:https://sainte-leocadie.fr/event/animation-en-sante-visuelle/
CATEGORIES:Agenda / Evénements Accueil
ATTACH;FMTTYPE=image/webp:https://sainte-leocadie.fr/wp-content/uploads/2023/11/animation_sante_visuelle.webp
END:VEVENT
END:VCALENDAR