BEGIN:VCALENDAR
VERSION:2.0
PRODID:-//Mairie de Sainte-Léocadie - ECPv6.15.20//NONSGML v1.0//EN
CALSCALE:GREGORIAN
METHOD:PUBLISH
X-ORIGINAL-URL:https://sainte-leocadie.fr
X-WR-CALDESC:Évènements pour Mairie de Sainte-Léocadie
REFRESH-INTERVAL;VALUE=DURATION:PT1H
X-Robots-Tag:noindex
X-PUBLISHED-TTL:PT1H
BEGIN:VTIMEZONE
TZID:Europe/Paris
BEGIN:DAYLIGHT
TZOFFSETFROM:+0100
TZOFFSETTO:+0200
TZNAME:CEST
DTSTART:20230326T010000
END:DAYLIGHT
BEGIN:STANDARD
TZOFFSETFROM:+0200
TZOFFSETTO:+0100
TZNAME:CET
DTSTART:20231029T010000
END:STANDARD
BEGIN:DAYLIGHT
TZOFFSETFROM:+0100
TZOFFSETTO:+0200
TZNAME:CEST
DTSTART:20240331T010000
END:DAYLIGHT
BEGIN:STANDARD
TZOFFSETFROM:+0200
TZOFFSETTO:+0100
TZNAME:CET
DTSTART:20241027T010000
END:STANDARD
BEGIN:DAYLIGHT
TZOFFSETFROM:+0100
TZOFFSETTO:+0200
TZNAME:CEST
DTSTART:20250330T010000
END:DAYLIGHT
BEGIN:STANDARD
TZOFFSETFROM:+0200
TZOFFSETTO:+0100
TZNAME:CET
DTSTART:20251026T010000
END:STANDARD
END:VTIMEZONE
BEGIN:VEVENT
DTSTART;TZID=Europe/Paris:20240303T120000
DTEND;TZID=Europe/Paris:20240303T170000
DTSTAMP:20260420T195126
CREATED:20240208T161200Z
LAST-MODIFIED:20240208T161200Z
UID:485-1709467200-1709485200@sainte-leocadie.fr
SUMMARY:Calçotada et animation musicale
DESCRIPTION:Apéro\nCalçots\nGrillade\nDessert \n20 € adulte\n12 € enfant de 8 à 14 ans \nSur réservation avant le 23 février 2024\nAttention places limitées\nau 06 84 15 28 74 ou au 04 68 04 76 27
URL:https://sainte-leocadie.fr/event/calcotada-et-animation-musicale/
CATEGORIES:Agenda / Evénements Accueil
ATTACH;FMTTYPE=image/webp:https://sainte-leocadie.fr/wp-content/uploads/2024/02/calcotada.webp
END:VEVENT
END:VCALENDAR