BEGIN:VCALENDAR
VERSION:2.0
PRODID:-//Mairie de Sainte-Léocadie - ECPv6.15.20//NONSGML v1.0//EN
CALSCALE:GREGORIAN
METHOD:PUBLISH
X-ORIGINAL-URL:https://sainte-leocadie.fr
X-WR-CALDESC:Évènements pour Mairie de Sainte-Léocadie
REFRESH-INTERVAL;VALUE=DURATION:PT1H
X-Robots-Tag:noindex
X-PUBLISHED-TTL:PT1H
BEGIN:VTIMEZONE
TZID:Europe/Paris
BEGIN:DAYLIGHT
TZOFFSETFROM:+0100
TZOFFSETTO:+0200
TZNAME:CEST
DTSTART:20230326T010000
END:DAYLIGHT
BEGIN:STANDARD
TZOFFSETFROM:+0200
TZOFFSETTO:+0100
TZNAME:CET
DTSTART:20231029T010000
END:STANDARD
BEGIN:DAYLIGHT
TZOFFSETFROM:+0100
TZOFFSETTO:+0200
TZNAME:CEST
DTSTART:20240331T010000
END:DAYLIGHT
BEGIN:STANDARD
TZOFFSETFROM:+0200
TZOFFSETTO:+0100
TZNAME:CET
DTSTART:20241027T010000
END:STANDARD
BEGIN:DAYLIGHT
TZOFFSETFROM:+0100
TZOFFSETTO:+0200
TZNAME:CEST
DTSTART:20250330T010000
END:DAYLIGHT
BEGIN:STANDARD
TZOFFSETFROM:+0200
TZOFFSETTO:+0100
TZNAME:CET
DTSTART:20251026T010000
END:STANDARD
END:VTIMEZONE
BEGIN:VEVENT
DTSTART;TZID=Europe/Paris:20240416T140000
DTEND;TZID=Europe/Paris:20240416T170000
DTSTAMP:20260420T182824
CREATED:20240403T125239Z
LAST-MODIFIED:20240403T125239Z
UID:491-1713276000-1713286800@sainte-leocadie.fr
SUMMARY:Bilans visuels
DESCRIPTION:Mardi 16 avril de 14h à 17h\nPrise de RDV en mairie ou via votre opticienne \nOUVERT À TOUS ET GRATUIT \nAvec votre Opticienne Mobile\nEstelle CALVET\n06 80 80 23 16
URL:https://sainte-leocadie.fr/event/bilans-visuels/
LOCATION:Mairie de Sainte-Léocadie
CATEGORIES:Agenda / Evénements Accueil
ATTACH;FMTTYPE=image/webp:https://sainte-leocadie.fr/wp-content/uploads/2024/04/bilan_visuel.webp
END:VEVENT
END:VCALENDAR