BEGIN:VCALENDAR
VERSION:2.0
PRODID:-//Mairie de Sainte-Léocadie - ECPv6.15.20//NONSGML v1.0//EN
CALSCALE:GREGORIAN
METHOD:PUBLISH
X-WR-CALNAME:Mairie de Sainte-Léocadie
X-ORIGINAL-URL:https://sainte-leocadie.fr
X-WR-CALDESC:Évènements pour Mairie de Sainte-Léocadie
REFRESH-INTERVAL;VALUE=DURATION:PT1H
X-Robots-Tag:noindex
X-PUBLISHED-TTL:PT1H
BEGIN:VTIMEZONE
TZID:Europe/Paris
BEGIN:DAYLIGHT
TZOFFSETFROM:+0100
TZOFFSETTO:+0200
TZNAME:CEST
DTSTART:20230326T010000
END:DAYLIGHT
BEGIN:STANDARD
TZOFFSETFROM:+0200
TZOFFSETTO:+0100
TZNAME:CET
DTSTART:20231029T010000
END:STANDARD
BEGIN:DAYLIGHT
TZOFFSETFROM:+0100
TZOFFSETTO:+0200
TZNAME:CEST
DTSTART:20240331T010000
END:DAYLIGHT
BEGIN:STANDARD
TZOFFSETFROM:+0200
TZOFFSETTO:+0100
TZNAME:CET
DTSTART:20241027T010000
END:STANDARD
BEGIN:DAYLIGHT
TZOFFSETFROM:+0100
TZOFFSETTO:+0200
TZNAME:CEST
DTSTART:20250330T010000
END:DAYLIGHT
BEGIN:STANDARD
TZOFFSETFROM:+0200
TZOFFSETTO:+0100
TZNAME:CET
DTSTART:20251026T010000
END:STANDARD
END:VTIMEZONE
BEGIN:VEVENT
DTSTART;TZID=Europe/Paris:20240531T201500
DTEND;TZID=Europe/Paris:20240531T201500
DTSTAMP:20260420T153928
CREATED:20240528T093446Z
LAST-MODIFIED:20240528T093446Z
UID:500-1717186500-1717186500@sainte-leocadie.fr
SUMMARY:Saison Cerdane
DESCRIPTION:Théâtre – Récit – Musique \nAtelier théâtre
URL:https://sainte-leocadie.fr/event/saison-cerdane/
CATEGORIES:Agenda / Evénements Accueil
ATTACH;FMTTYPE=image/webp:https://sainte-leocadie.fr/wp-content/uploads/2024/05/saison_cerdane.webp
END:VEVENT
END:VCALENDAR