BEGIN:VCALENDAR
VERSION:2.0
PRODID:-//Mairie de Sainte-Léocadie - ECPv6.15.20//NONSGML v1.0//EN
CALSCALE:GREGORIAN
METHOD:PUBLISH
X-WR-CALNAME:Mairie de Sainte-Léocadie
X-ORIGINAL-URL:https://sainte-leocadie.fr
X-WR-CALDESC:Évènements pour Mairie de Sainte-Léocadie
REFRESH-INTERVAL;VALUE=DURATION:PT1H
X-Robots-Tag:noindex
X-PUBLISHED-TTL:PT1H
BEGIN:VTIMEZONE
TZID:Europe/Paris
BEGIN:DAYLIGHT
TZOFFSETFROM:+0100
TZOFFSETTO:+0200
TZNAME:CEST
DTSTART:20240331T010000
END:DAYLIGHT
BEGIN:STANDARD
TZOFFSETFROM:+0200
TZOFFSETTO:+0100
TZNAME:CET
DTSTART:20241027T010000
END:STANDARD
BEGIN:DAYLIGHT
TZOFFSETFROM:+0100
TZOFFSETTO:+0200
TZNAME:CEST
DTSTART:20250330T010000
END:DAYLIGHT
BEGIN:STANDARD
TZOFFSETFROM:+0200
TZOFFSETTO:+0100
TZNAME:CET
DTSTART:20251026T010000
END:STANDARD
BEGIN:DAYLIGHT
TZOFFSETFROM:+0100
TZOFFSETTO:+0200
TZNAME:CEST
DTSTART:20260329T010000
END:DAYLIGHT
BEGIN:STANDARD
TZOFFSETFROM:+0200
TZOFFSETTO:+0100
TZNAME:CET
DTSTART:20261025T010000
END:STANDARD
END:VTIMEZONE
BEGIN:VEVENT
DTSTART;TZID=Europe/Paris:20250705T203000
DTEND;TZID=Europe/Paris:20250705T203000
DTSTAMP:20260419T202955
CREATED:20250701T092115Z
LAST-MODIFIED:20250702T092514Z
UID:567-1751747400-1751747400@sainte-leocadie.fr
SUMMARY:La Tempête
DESCRIPTION:Le Théâtre de la Table d’Émeraude \nLA TEMPÊTE\nde William Shakespeare – Mise en scène Ibrahim Hadj Taieb\nDécors Viviane Lacoste \nLe samedi 5 juillet à 20h30 & le Dimanche 6 juillet à 18h \nA la Bergerie de Sainte-Léocadie \nà partir de 8 ans \nRéservation : latabledemeraude@protonmail.com
URL:https://sainte-leocadie.fr/event/la-tempete/
CATEGORIES:Agenda / Evénements Accueil
ATTACH;FMTTYPE=image/webp:https://sainte-leocadie.fr/wp-content/uploads/2025/07/IMG-20250630-WA0000.webp
END:VEVENT
END:VCALENDAR